BEGIN:VCALENDAR
VERSION:2.0
PRODID:-//wp-events-plugin.com//7.2.2.1//EN
TZID:America/Denver
X-WR-TIMEZONE:America/Denver
BEGIN:VEVENT
UID:83@tsm.law
DTSTART;TZID=America/Denver:20250611T133000
DTEND;TZID=America/Denver:20250611T160000
DTSTAMP:20250212T201232Z
URL:https://tsm.law/events/basic-fair-housing-workshop-june-11-2025/
SUMMARY:Basic Fair Housing Workshop June 11 2025
DESCRIPTION:The primary focus of this workshop is on the principles of Fair
  Housing\, in particular\, how to conduct business in accordance with fair
  housing and civil rights laws. After taking this class\, participants wil
 l know how to properly deal with the issues concerning both prospective an
 d current tenants.\n\nFair Housing law is founded on ethics and treating a
 ll people equally. The class covers different protected classes (such as r
 ace\, religion\, sex\, etc.) and their rights when renting to them. When i
 t comes to Fair Housing\, the Firm deals with more disabled tenant cases t
 han any other issue. Learn the difference between a reasonable accommodati
 on and modification\, and how to handle these requests from disabled tenan
 ts. In particular\, attendees will explore more complicated issues such as
  companion animals and handicapped parking requests.\n\nAdvertising your r
 entals is critical for your bottom line and is conducted in some form by e
 very employee on your property. Learn what you can and cannot say about yo
 ur property and current tenants to prospective tenants. Protect yourself b
 y learning the do’s and don’ts of the application and signing process\
 , including the hidden pitfalls of steering or asking illegal questions. D
 iscover the best way of handling maintenance requests to keep you out of l
 egal turmoil.\n\nThis class is ideal for those who are new to the property
  management industry or those who just need to brush up on their fair hous
 ing skills. Fines for a first fair housing offense may cost a property up 
 to $10\,000! It is important to know that the nuances of Fair Housing laws
  are constantly evolving and changing due to new case law.\n\nJoin Webinar
  Now
END:VEVENT
BEGIN:VTIMEZONE
TZID:America/Denver
X-LIC-LOCATION:America/Denver
BEGIN:DAYLIGHT
DTSTART:20250309T030000
TZOFFSETFROM:-0700
TZOFFSETTO:-0600
TZNAME:MDT
END:DAYLIGHT
END:VTIMEZONE
END:VCALENDAR