BEGIN:VCALENDAR
VERSION:2.0
PRODID:-//wp-events-plugin.com//7.2.2.1//EN
TZID:America/Denver
X-WR-TIMEZONE:America/Denver
BEGIN:VEVENT
UID:10@tsm.law
DTSTART;TZID=America/Denver:20230725T150000
DTEND;TZID=America/Denver:20230725T180000
DTSTAMP:20230712T003904Z
URL:https://tsm.law/events/eviction-for-non-rent-webinar-2/
SUMMARY:Eviction for Non-Rent Webinar
DESCRIPTION:This workshop covers the entire eviction process\, with special
  emphasis on the collections process as it pertains to non-payment cases.
ATTACH;FMTTYPE=image/jpeg:https://tsm.law/wp-content/uploads/BV_TschetterS
 ulzer_April23_029.jpg
END:VEVENT
BEGIN:VTIMEZONE
TZID:America/Denver
X-LIC-LOCATION:America/Denver
BEGIN:DAYLIGHT
DTSTART:20230312T030000
TZOFFSETFROM:-0700
TZOFFSETTO:-0600
TZNAME:MDT
END:DAYLIGHT
END:VTIMEZONE
END:VCALENDAR