BEGIN:VCALENDAR
VERSION:2.0
PRODID:-//wp-events-plugin.com//7.2.2.1//EN
TZID:America/Denver
X-WR-TIMEZONE:America/Denver
BEGIN:VEVENT
UID:14@tsm.law
DTSTART;TZID=America/Denver:20231128T090000
DTEND;TZID=America/Denver:20231128T120000
DTSTAMP:20230905T173154Z
URL:https://tsm.law/events/eviction-for-non-rent-webinar-3/
SUMMARY:Eviction for Non-Rent Webinar
DESCRIPTION:This workshop covers the entire eviction process\, with special
  emphasis on the collections process as it pertains to non-payment cases.
ATTACH;FMTTYPE=image/jpeg:https://tsm.law/wp-content/uploads/marcus-lenk-w
 KO0rx50VWo-unsplash-scaled.jpg
END:VEVENT
BEGIN:VTIMEZONE
TZID:America/Denver
X-LIC-LOCATION:America/Denver
BEGIN:STANDARD
DTSTART:20231105T010000
TZOFFSETFROM:-0600
TZOFFSETTO:-0700
TZNAME:MST
END:STANDARD
END:VTIMEZONE
END:VCALENDAR