BEGIN:VCALENDAR
VERSION:2.0
PRODID:-//wp-events-plugin.com//7.2.2.1//EN
TZID:America/Denver
X-WR-TIMEZONE:America/Denver
BEGIN:VEVENT
UID:12@tsm.law
DTSTART;TZID=America/Denver:20230926T090000
DTEND;TZID=America/Denver:20230926T120000
DTSTAMP:20230905T173035Z
URL:https://tsm.law/events/eviction-for-rent-webinar-4/
SUMMARY:Eviction for Rent Webinar
DESCRIPTION:This workshop covers the entire eviction process\, with special
  emphasis on the process as it pertains to non-payment cases.
ATTACH;FMTTYPE=image/jpeg:https://tsm.law/wp-content/uploads/AdobeStock_39
 6645866-1.jpeg
END:VEVENT
BEGIN:VTIMEZONE
TZID:America/Denver
X-LIC-LOCATION:America/Denver
BEGIN:DAYLIGHT
DTSTART:20230312T030000
TZOFFSETFROM:-0700
TZOFFSETTO:-0600
TZNAME:MDT
END:DAYLIGHT
END:VTIMEZONE
END:VCALENDAR