BEGIN:VCALENDAR
VERSION:2.0
PRODID:-//wp-events-plugin.com//7.2.2.1//EN
TZID:America/Denver
X-WR-TIMEZONE:America/Denver
BEGIN:VEVENT
UID:37@tsm.law
DTSTART:20240802T160000Z
DTEND:20240802T170000Z
DTSTAMP:20231220T154959Z
URL:https://tsm.law/events/fair-housing-friday-9/
SUMMARY:Fair Housing Friday
DESCRIPTION:\n\nFair Housing Friday is a one-hour interactive webinar desig
 ned to provide Tschetter Sulzer Muccio clients with a comprehensive overvi
 ew of Fair Housing Laws in Colorado. This informative session covers updat
 es on the latest fair housing practices\, ensuring that attendees are up t
 o date with any recent changes or developments in this area.\n\n\n\nHosted
  by Tschetter Sulzer Muccio\, a trusted name in the field of fair housing 
 and real estate law\, Fair Housing Friday offers an invaluable opportunity
  for clients to expand their understanding of fair housing regulations and
  compliance. This webinar serves as a platform for attendees to have their
  questions answered directly by industry professionals\, ensuring that the
 y leave the session with a clear and concise understanding of their rights
  and responsibilities under fair housing laws.\n\n\n\nWhether you are a re
 al estate professional\, landlord\, homeowner\, or anyone else involved in
  the housing industry\, Fair Housing Friday is an essential resource for s
 taying informed and educated about fair housing practices in Colorado. Joi
 n us for this engaging and interactive webinar\, where knowledge and empow
 erment go hand in hand.\n\n\n\nInvitations for this event will be sent out
  to all active Tschetter Sulzer Muccio clients prior to this event.\n\n\n\
 n\n\n\n\nEviction Resources &amp\; Education\n\n\n\nWe have over 20 years 
 of experience in handling eviction cases. Let us share our knowledge with 
 you.\n\n\n\n\nLandlord Resources\n\n\n\nTenant Information\n\n\n\n\n\n\n\n
 \n\n\n
ATTACH;FMTTYPE=image/jpeg:https://tsm.law/wp-content/uploads/AdobeStock_32
 9376481-1-scaled.jpeg
END:VEVENT
END:VCALENDAR