BEGIN:VCALENDAR
VERSION:2.0
PRODID:-//wp-events-plugin.com//7.2.2.1//EN
TZID:America/Denver
X-WR-TIMEZONE:America/Denver
BEGIN:VEVENT
UID:28@tsm.law
DTSTART:20241016T160000Z
DTEND:20241016T170000Z
DTSTAMP:20231220T154014Z
URL:https://tsm.law/events/webinar-wednesday-10/
SUMMARY:Webinar Wednesday
DESCRIPTION:\n\nWebinar Wednesdays is a series of one-hour webinars hosted 
 by Tschetter Sulzer Muccio\, focused on addressing current issues and chal
 lenges in the rental market in Colorado. Led by the experienced leadership
  team at Tschetter Sulzer Muccio\, these webinars provide valuable insight
 s and updates on the latest trends\, regulations\, and best practices in t
 he industry.\n\n\n\nDesigned specifically for Tschetter Sulzer Muccio clie
 nts\, these webinars offer an excellent opportunity to stay informed and e
 nsure that they are up to date on the best practices in their field. With 
 the rental market constantly evolving\, it is crucial for professionals to
  stay abreast of the latest developments to effectively navigate the chall
 enges they may encounter.\n\n\n\nWebinar Wednesdays are interactive and en
 gaging sessions that allow participants to ask questions directly to indus
 try experts. By attending these webinars\, clients can gain valuable knowl
 edge and tools to effectively address the unique challenges they face in t
 he rental market in Colorado.\n\n\n\nWhether you are a landlord\, property
  manager\, real estate agent\, or any other professional working in the re
 ntal market\, Webinar Wednesdays offer a convenient way to stay ahead of t
 he curve. Join us for an insightful and informative session that will equi
 p you with the knowledge and resources needed to excel in the dynamic rent
 al market in Colorado.\n\n\n\nInvitations for this event will be sent to a
 ll Tschetter Sulzer Muccio clients before the event.\n\n\n\n\n\n\n\nEvicti
 on Resources &amp\; Education\n\n\n\nWe have over 20 years of experience i
 n handling eviction cases. Let us share our knowledge with you.\n\n\n\n\nL
 andlord Resources\n\n\n\nTenant Information\n\n\n\n\n\n\n\n\n\n\n
ATTACH;FMTTYPE=image/jpeg:https://tsm.law/wp-content/uploads/BV_TschetterS
 ulzer_April23_002.jpg
END:VEVENT
END:VCALENDAR