BEGIN:VCALENDAR
VERSION:2.0
PRODID:-//wp-events-plugin.com//7.2.2.1//EN
TZID:America/Denver
X-WR-TIMEZONE:America/Denver
BEGIN:VEVENT
UID:91@tsm.law
DTSTART:20250820T090000Z
DTEND:20250820T103000Z
DTSTAMP:20250820T075534Z
URL:https://tsm.law/events/webinar-wednesday-hb-1190-august-20-2025/
SUMMARY:Webinar Wednesday - HB 1090 - August 20\, 2025
DESCRIPTION:JOIN WEBINAR NOW\nHB25-1090 is Fast Approaching — Webinar Wed
 nesday Will Get You Ready!\nHB25-1090 has far-reaching operational impacts
 .\n\n 	Advertising Disclosures – They won’t appear magically\; you’l
 l need a plan.\n 	Leasing Disclosures – 1090 Disclosures are technical a
 nd complicated. You can’t just copy-and-paste\; compliance takes thought
 .\n 	RUBS Eliminated – One “simple” solution could land you in hot w
 ater with other Colorado laws.\n\n1090 takes effect January 1\, 2026 — b
 ut if you wait until then\, it will be too late.\n With budget season here
 \, the time to plan is now.\n\nJoin Pete and Jon for Webinar Wednesday to 
 get the must-know strategies and avoid costly mistakes.  \n\nDate &amp\;
  Time: August 20th | 9:00 – 10:30 am\n\nDirect Access: No registration n
 eeded — just join via the link below.\nJOIN WEBINAR NOW\nReferenced Webi
 nar Documents:\nProhibited Charge Table\n\nProhibited Charges\n\nSchumer B
 ox Example\n\nWhy Schumer Box\n\nTechnical Requirements for Disclosures\n\
 nDisclosures Template\n\nClear &amp\; Conspicuous\n\nTSM Disclosure Templa
 te Rationale\n\nCutover Issues &amp\; Strategy\n\nRent Restructure Game Pl
 an\n\nHB-1090 Signed
ATTACH;FMTTYPE=image/jpeg:https://tsm.law/wp-content/uploads/Group-23.png
END:VEVENT
END:VCALENDAR