BEGIN:VCALENDAR
VERSION:2.0
PRODID:-//wp-events-plugin.com//7.2.2.1//EN
TZID:America/Denver
X-WR-TIMEZONE:America/Denver
BEGIN:VEVENT
UID:93@tsm.law
DTSTART:20251119T090000Z
DTEND:20251119T103000Z
DTSTAMP:20251114T080207Z
URL:https://tsm.law/events/webinar-wednesday-taking-the-next-steps-navigat
 ing-hb25-1090-webinar-wednesday-will-get-you-ready/
SUMMARY:Webinar Wednesday — Taking the Next Steps Navigating HB25-1090
DESCRIPTION:Have your plan for 1090 - changes from advertising to utilities
 . \n1090 takes effect January 1\, 2026.  You are all aware of HB25-1090 
 at this point\, but have you decided what the best path is for your compan
 y to implement and navigate the next few months.\n\nThis is not a basic ov
 erview of 1090\, this is practical discussion about implementation and the
  choices facing landlords and managers. Join Pete and Jon for Webinar Wedn
 esday to get the must-know strategies to help you with understanding the c
 hanges that are happening\, and that might happen if there is a legislativ
 e fix in 2026 to clearly allow RUBS.\nDate &amp\; Time: November 19th | 9:
 00 – 10:00 am\nDirect Access: No registration needed — just join via t
 he link below.\n\n Join Webinar Now\nEase of Entry: Use your TSM website c
 redentials for access. If you have any trouble or aren’t sure about your
  credentials\, email us at Registration@tsm.law.\n\nWe look forward to you
  joining us for Webinar Wednesday! We know you are busy\, so if you are un
 able to attend\, we have you covered\, you will get an e-mail once the web
 inar is posted to our site.
ATTACH;FMTTYPE=image/jpeg:https://tsm.law/wp-content/uploads/Group-23-1.pn
 g
END:VEVENT
END:VCALENDAR